BEGIN:VCALENDAR
VERSION:2.0
PRODID:-//Open-Minded.club — Comunidad Liberal ENM · Red Social ON &amp; OFF con Clubs Físicos - ECPv6.15.20//NONSGML v1.0//EN
CALSCALE:GREGORIAN
METHOD:PUBLISH
X-WR-CALNAME:Open-Minded.club — Comunidad Liberal ENM · Red Social ON &amp; OFF con Clubs Físicos
X-ORIGINAL-URL:https://www.open-minded.club
X-WR-CALDESC:Eventos para Open-Minded.club — Comunidad Liberal ENM · Red Social ON &amp; OFF con Clubs Físicos
REFRESH-INTERVAL;VALUE=DURATION:PT1H
X-Robots-Tag:noindex
X-PUBLISHED-TTL:PT1H
BEGIN:VTIMEZONE
TZID:Europe/Madrid
BEGIN:DAYLIGHT
TZOFFSETFROM:+0100
TZOFFSETTO:+0200
TZNAME:CEST
DTSTART:20250330T010000
END:DAYLIGHT
BEGIN:STANDARD
TZOFFSETFROM:+0200
TZOFFSETTO:+0100
TZNAME:CET
DTSTART:20251026T010000
END:STANDARD
BEGIN:DAYLIGHT
TZOFFSETFROM:+0100
TZOFFSETTO:+0200
TZNAME:CEST
DTSTART:20260329T010000
END:DAYLIGHT
BEGIN:STANDARD
TZOFFSETFROM:+0200
TZOFFSETTO:+0100
TZNAME:CET
DTSTART:20261025T010000
END:STANDARD
BEGIN:DAYLIGHT
TZOFFSETFROM:+0100
TZOFFSETTO:+0200
TZNAME:CEST
DTSTART:20270328T010000
END:DAYLIGHT
BEGIN:STANDARD
TZOFFSETFROM:+0200
TZOFFSETTO:+0100
TZNAME:CET
DTSTART:20271031T010000
END:STANDARD
END:VTIMEZONE
BEGIN:VEVENT
DTSTART;TZID=Europe/Madrid:20260418T200000
DTEND;TZID=Europe/Madrid:20260419T020000
DTSTAMP:20260424T040810
CREATED:20260415T110910Z
LAST-MODIFIED:20260415T110910Z
UID:15805-1776542400-1776564000@www.open-minded.club
SUMMARY:FISHNET PARTY — Redes de Seducción · Sábado 18 Abril
DESCRIPTION:La FISHNET PARTY — Redes de Seducción es la noche donde las miradas son puentes y el tacto es lenguaje. En OPEN-MINDED Club Valencia\, las redes se visten\, se sienten y conectan. No es solo una fiesta de lencería: es seducción libre\, SSC (Sana\, Segura y Consensuada)\, sin presiones y con respeto absoluto. \n\n\n\nUna noche para moverte entre redes… o dejarte atrapar\n\n\n\nEn el juego de las redes\, tod@s tenemos un papel. A veces lanzas el anzuelo; otras\, caes en la red cuando menos lo esperas. Pescar requiere paciencia e intuición. Ser pescad@ también tiene su arte: dejarse tentar\, fluir\, sentir la corriente. En OPEN\, las redes no atrapan: conectan. Nadie se queda sol@ flotando; siempre hay quien nada a tu ritmo. \n\n\n\nDetalles de la noche\n\n\n\n📅 Sábado 18 de abril de 2026🕘 Desde las 22:00 hasta las 04:00📍 OPEN-MINDED · Joaquín Costa 41\, Valencia👗 Dress code voluntario: fishnet\, rejillas\, transparencias\, bodies… o lo que exprese tu esencia. No imponemos vestimentas; la elegancia está en la actitud.🔐 Acceso: Solo miembros. Verificación de identidad obligatoria.💰 Consultar tarifas y horarios \n\n\n\n¿Primera vez en OPEN-MINDED?\n\n\n\nSi es tu primera visita\, te recomendamos venir un J-INI (Jueves de Iniciación) para conocer el club en un ambiente relajado. La verificación de identidad presencial es obligatoria para acceder. \n\n\n\nVen por la experiencia\, quédate por la Tribu\n\n\n\nOPEN-MINDED es una comunidad viva: parejas y personas de mente abierta que viven el Estilo de Vida ENM (Ética No Monógama) con madurez y respeto. Aquí no importa cuánt@s hay\, sino quiénes están. PARTIES FOR CIVILIZED PEOPLE. \n\n\n\n📲 WhatsApp: +34 744 75 64 39📝 Solicitar membresía❓ Preguntas frecuentes \n\n\n\nOPEN-MINDED es una asociación privada liberal. Acceso restringido a miembros. Verificación de identidad obligatoria. Solo mayores de 18 años.
URL:https://www.open-minded.club/eventos/fishnet-party-redes-de-seduccion-%c2%b7-sabado-18-abril/
LOCATION:OPEN-MINDED.club\, Joaquín Costa 41\, Valencia\, Valencia\, 46005\, Spain
CATEGORIES:Fiesta Swinger,Valencia
ATTACH;FMTTYPE=image/jpeg:https://www.open-minded.club/wp-content/uploads/2025/05/fishnet-party-Viernes-redes-de-seduccion.jpg
ORGANIZER;CN="OPEN-MINDED.club":MAILTO:info@open-minded.club
END:VEVENT
BEGIN:VEVENT
DTSTART;TZID=Europe/Madrid:20260419T200000
DTEND;TZID=Europe/Madrid:20260420T020000
DTSTAMP:20260424T040810
CREATED:20260419T102115Z
LAST-MODIFIED:20260419T110009Z
UID:15849-1776628800-1776650400@www.open-minded.club
SUMMARY:Domingo ENM · Todo menos relax
DESCRIPTION:Domingo ENM en OPEN-MINDED. La energía del fin de semana no se apaga\, se transforma. La Tribu OPEN vibra distinta: más auténtica\, más conectada\, más civilizada. \n\n\n\nQué hace diferente el domingo en OPEN\n\n\n\nEl domingo es el día perfecto para parejas swinger con química real y tríos auténticos. Ambiente civilizado\, sin espectáculos ni shows profesionales disfrazados de parejas. Todo lo que ocurre es entre miembros verificados\, en un entorno seguro\, con consentimiento explícito y protección de la identidad. \n\n\n\nDetalles de la noche\n\n\n\n\nFecha: Domingo 19 de abril de 2026\nHorario: de 22:00 a 04:00\nLugar: OPEN-MINDED · Joaquín Costa 41\, Valencia\nEntrada: 30 € con 2 consumiciones y tentempié hasta las 11:30\nAcceso: Solo miembros. Verificación de identidad obligatoria\nTarifas completas: /precios/\n\n\n\n\n¿Primer domingo en OPEN?\n\n\n\nNo necesitas experiencia\, necesitas actitud. Respeto\, autenticidad y consentimiento. El acceso es un privilegio reservado a miembros verificados. Verificamos identidad para proteger tu intimidad\, no para exponerla. \n\n\n\nSolicitar alta: open-minded.club/solicitud-alta/WhatsApp consultas: +34 744 75 64 39 \n\n\n\nOPEN-MINDED es una asociación privada liberal. Acceso restringido a miembros. Verificación de identidad obligatoria. Solo mayores de 18 años.
URL:https://www.open-minded.club/eventos/domingo-enm-19-abril-2026/
LOCATION:OPEN-MINDED.club\, Joaquín Costa 41\, Valencia\, Valencia\, 46005\, Spain
CATEGORIES:Fiesta Swinger,Valencia
ATTACH;FMTTYPE=image/jpeg:https://www.open-minded.club/wp-content/uploads/2025/10/domingos-todo-menos-relax-1080-x-1440-px.jpg
ORGANIZER;CN="OPEN-MINDED.club":MAILTO:info@open-minded.club
END:VEVENT
BEGIN:VEVENT
DTSTART;TZID=Europe/Madrid:20260420T200000
DTEND;TZID=Europe/Madrid:20260421T020000
DTSTAMP:20260424T040810
CREATED:20260420T073441Z
LAST-MODIFIED:20260420T073441Z
UID:15899-1776715200-1776736800@www.open-minded.club
SUMMARY:Casting Call OPEN — Artistas\, Modelos\, Músicos\, DJs y Performers Valencia
DESCRIPTION:OPEN-MINDED convoca casting abierto para modelos\, músicos\, DJs\, actores\, bailarines y performers de Valencia. Busca talento para el club físico\, los canales de contenido\, el podcast y los eventos culturales underground. \n\n\n\nQué hace diferente esta noche\n\n\n\nEl casting artistas Valencia de OPEN-MINDED no es una noche más: es laboratorio cultural. El ambiente ENM es mucho más que sexo — es arte\, música\, performance y escena underground. Si tienes una idea\, un proyecto o un formato que quieras explorar en un entorno sin prejuicios\, este lunes es el momento de traerlo. \n\n\n\nAbrimos la puerta a modelos\, cantantes\, DJs underground\, bandas\, bailarines\, burlesque\, drag\, shibari\, stand-up\, creadores audiovisuales y cualquier persona con un concepto propio. Puedes venir solo/a\, en pareja o como formación. \n\n\n\nDetalles de la noche\n\n\n\n\nFecha: Lunes 20 de abril de 2026\nHorario: De 22:00 a 04:00\nLugar: OPEN-MINDED · Joaquín Costa 41\, Valencia\nPresentaciones: A partir de las 22:00 — reserva previa obligatoria por WhatsApp\nAcceso: Solo miembros. Verificación de identidad obligatoria\nReserva de turno: WhatsApp +34 744 75 64 39\nTarifas: open-minded.club/precios\n\n\n\n\nQué traer a la presentación\n\n\n\nTu disciplina clara\, un enlace a tu trabajo (Instagram\, portfolio\, SoundCloud\, Vimeo\, lo que tengas) y — si tu propuesta implica montaje técnico específico (luces\, sonido\, estructura aérea\, cámaras) — la ficha técnica. Si vienes como pareja o grupo\, indícalo en el primer mensaje al reservar. \n\n\n\nPrimera vez en OPEN\n\n\n\nSi nunca has venido\, entra por J-INI para familiarizarte con el espacio antes de presentar tu propuesta. La verificación de identidad es obligatoria para acceder: solicita tu alta antes de venir. \n\n\n\nInformación completa del casting → \n\n\n\nOPEN-MINDED es una asociación privada liberal. Acceso restringido a miembros. Verificación de identidad obligatoria. Solo mayores de 18 años.
URL:https://www.open-minded.club/eventos/casting-call-open-artistas-modelos-musicos-djs-y-performers-valencia/
LOCATION:OPEN-MINDED.club\, Joaquín Costa 41\, Valencia\, Valencia\, 46005\, Spain
CATEGORIES:Fiesta Swinger,Valencia
ATTACH;FMTTYPE=image/jpeg:https://www.open-minded.club/wp-content/uploads/2023/12/PORNSTARS-OM-1.jpg
ORGANIZER;CN="OPEN-MINDED.club":MAILTO:info@open-minded.club
END:VEVENT
BEGIN:VEVENT
DTSTART;TZID=Europe/Madrid:20260422T200000
DTEND;TZID=Europe/Madrid:20260423T020000
DTSTAMP:20260424T040810
CREATED:20260422T105618Z
LAST-MODIFIED:20260422T105707Z
UID:15909-1776888000-1776909600@www.open-minded.club
SUMMARY:MiércoleX · Miércoles 22 de abril en OPEN-MINDED Valencia
DESCRIPTION:MiércoleX es el día X de la semana en OPEN-MINDED Valencia. La noche de la incógnita\, donde la X se activa como signo de cruce\, deseo y decisión. \n\n\n\nQué hace diferente al MiércoleX\n\n\n\nL-M-X-J-V-S-D. La X está en el centro de la semana\, y el miércoles es el día en que la inercia pierde fuerza y empieza a contar lo que elegimos. No prometemos nada: ese es el pacto. Cada miércoles\, la X se resuelve en cuerpo real\, en Joaquín Costa 41. Lee la pieza editorial completa en MiércoleX · El día X de la semana liberal en Valencia. \n\n\n\nDetalles de la noche\n\n\n\n\nFecha: miércoles 22 de abril de 2026\nHorario: de 22:00 a 04:00h\nLugar: OPEN-MINDED · Joaquín Costa 41\, Valencia\nAcceso: solo miembr@s. Verificación de identidad obligatoria\nTarifas: /precios/\n\n\n\n\nPrimera vez en OPEN\n\n\n\nSi es tu primera vez\, te recomendamos empezar por el J-INI · Jueves de iniciación. Para el miércoles\, verificación previa obligatoria. \n\n\n\nSolicitar alta · WhatsApp consultas \n\n\n\nOPEN-MINDED es una asociación privada liberal. Acceso restringido a miembros. Verificación de identidad obligatoria. Solo mayores de 18 años.
URL:https://www.open-minded.club/eventos/miercolex-22-abril-2026-valencia/
LOCATION:OPEN-MINDED.club\, Joaquín Costa 41\, Valencia\, Valencia\, 46005\, Spain
CATEGORIES:Fiesta Swinger,Valencia
ATTACH;FMTTYPE=image/jpeg:https://www.open-minded.club/wp-content/uploads/2025/05/we-X-OM-1.jpg
ORGANIZER;CN="OPEN-MINDED.club":MAILTO:info@open-minded.club
END:VEVENT
BEGIN:VEVENT
DTSTART;TZID=Europe/Madrid:20260423T200000
DTEND;TZID=Europe/Madrid:20260424T020000
DTSTAMP:20260424T040810
CREATED:20260423T035239Z
LAST-MODIFIED:20260423T035405Z
UID:15921-1776974400-1776996000@www.open-minded.club
SUMMARY:Jueves de Iniciación · Sin miedo a mirar de frente
DESCRIPTION:Jueves de Iniciación es la puerta más amable de OPEN-MINDED. La noche pensada para quienes llegan por primera vez y para habituales que vuelven a aprender algo. Observar\, preguntar\, decidir — a tu propio ritmo. \n\n\n\nQué hace esta noche diferente\n\n\n\nMirar de frente no es lanzarse. Es quitarse el miedo de encima. El Jueves de Iniciación se construye sobre una premisa simple: solo se avanza con un sí claro\, positivo y constante. El resto es presencia. Algun@s pasan la primera noche en la barra\, cruzándose con quienes también están mirando. Otr@s se adentran antes en las salas. No hay un ritmo correcto — el tuyo es el correcto. \n\n\n\nDetalles de la noche\n\n\n\n\nDía: Jueves\nHorario: 22:00 — 04:00\nLugar: OPEN-MINDED · Joaquín Costa 41\, Valencia\nAcceso: Solo miembr@s. Verificación de identidad obligatoria\nDress code: Elegante nocturno\nTarifas: Consultar aquí\n\n\n\n\n¿Primera vez?\n\n\n\nSi es tu primera visita al club\, esta es la noche. Si aún no tienes alta como miembr@\, solicita tu membresía antes de venir. Todas las dudas se resuelven por WhatsApp. Más contexto en el post completo sobre el Jueves de Iniciación. \n\n\n\nOPEN-MINDED es una asociación privada liberal. Acceso restringido a miembros. Verificación de identidad obligatoria. Solo mayores de 18 años.
URL:https://www.open-minded.club/eventos/jueves-de-iniciacion-sin-miedo-a-mirar-de-frente/
LOCATION:OPEN-MINDED.club\, Joaquín Costa 41\, Valencia\, Valencia\, 46005\, Spain
CATEGORIES:Fiesta Swinger,Valencia
ATTACH;FMTTYPE=image/jpeg:https://www.open-minded.club/wp-content/uploads/2024/01/Untitled-Design-1.jpg
ORGANIZER;CN="OPEN-MINDED.club":MAILTO:info@open-minded.club
END:VEVENT
BEGIN:VEVENT
DTSTART;TZID=Europe/Madrid:20260424T200000
DTEND;TZID=Europe/Madrid:20260425T020000
DTSTAMP:20260424T040810
CREATED:20260424T001711Z
LAST-MODIFIED:20260424T001711Z
UID:15926-1777060800-1777082400@www.open-minded.club
SUMMARY:MICHAEL — Our Story Begins
DESCRIPTION:Una noche dedicada a la intersección entre cultura pop\, música y comunidad liberal. Con el estreno del biopic MICHAEL\, la comunidad OPEN-MINDED se apropia del lema His Story Begins y escribe el suyo: Our Story Begins. \n\n\n\nEl capítulo que empieza\n\n\n\nMichael Jackson rompió reglas\, fusionó géneros y redefinió qué podía ser un artista pop. La comunidad OPEN-MINDED comparte ese espíritu: romper el marco convencional para escribir una historia propia. Música\, baile\, cultura y vínculos auténticos en una noche pensada para celebrar que toda transformación empieza por alguien que decide contarla. \n\n\n\nDetalles de la noche\n\n\n\n\nFecha: Viernes 24 de abril de 2026\nHorario: De 22:00 a 04:00\nAcceso: Solo miembros verificados. Verificación de identidad obligatoria\nPrecios y tarifas: Consulta aquí\n\n\n\n\nPrimera vez en OPEN-MINDED\n\n\n\nSi es tu primera vez\, solicita tu alta antes. El acceso a la comunidad requiere verificación de identidad y aceptación de normas. \n\n\n\nSolicitar alta · Consultas por WhatsApp \n\n\n\n\n\nOPEN-MINDED es una asociación privada liberal. Acceso restringido a miembros. Verificación de identidad obligatoria. Solo mayores de 18 años.
URL:https://www.open-minded.club/eventos/michael-our-story-begins/
LOCATION:OPEN-MINDED.club\, Joaquín Costa 41\, Valencia\, Valencia\, 46005\, Spain
CATEGORIES:Fiesta Swinger,Valencia
ATTACH;FMTTYPE=image/jpeg:https://www.open-minded.club/wp-content/uploads/2026/04/MICHAEL-JACKSON-GRACE.jpg
ORGANIZER;CN="OPEN-MINDED.club":MAILTO:info@open-minded.club
END:VEVENT
BEGIN:VEVENT
DTSTART;TZID=Europe/Madrid:20260425T200000
DTEND;TZID=Europe/Madrid:20260425T223000
DTSTAMP:20260424T040810
CREATED:20260420T063345Z
LAST-MODIFIED:20260420T063449Z
UID:15861-1777147200-1777156200@www.open-minded.club
SUMMARY:Mend in Public Day Valencia · Zurcido e intercambio de ropa en OPEN
DESCRIPTION:Mend in Public Day · Fashion Revolution Week 2026 Zurcido manual e intercambio de ropa en la recepción de OPEN. Sábado 25 de abril desde las 22:00. Trae una prenda que ibas a tirar. Abierto a tod@s.\n\n\n\nEl Mend in Public Day es la jornada global en la que miles de personas se reúnen en plazas\, bibliotecas\, cafés y centros comunitarios para reparar ropa en lugares públicos. Forma parte de Fashion Revolution Week 2026 bajo el lema Collective Action. En OPEN lo hacemos en la recepción del club: con aguja\, hilo y las manos. Sin máquinas. Sin profesores. Quien sabe zurcir enseña a quien no sabe. \n\n\n\nQué pasa esa noche\n\n\n\nDos mesas. Una para zurcir: agujas\, hilos de colores\, retales\, tijeras. Otra para intercambiar: traes una prenda en buen estado que ya no usas y te llevas otra. Es el mismo sistema que funciona cada lunes en nuestro Flea Market Monday\, esta vez con un motivo concreto — recordar que no hay tela más sostenible que la que ya existe. \n\n\n\nDatos\n\n\n\n\n\n\nFecha\nSábado 25 de abril de 2026\n\n\nHorario Mend Day\n22:00 — 00:00 (luego sigue la noche)\n\n\nLugar\nRecepción OPEN-MINDED · Joaquín Costa 41\, Valencia\n\n\nAcceso Mend Day\nLibre · Abierto a tod@s · No requiere membresía\n\n\nQué traer\nUna prenda rota para zurcir\, una en buen estado para intercambiar\, o ambas\n\n\nParte de\nFashion Revolution Week 2026 · Collective Action\n\n\n\n\n\n\nLee el contexto completo\, la historia del movimiento y la voz de Grace en el post del Mend Day. Si quieres conocer OPEN más allá de esa noche\, puedes explorar qué somos. \n\n\n\n\nNos vemos el sábado 25 a las 22h \nAvisar que voy
URL:https://www.open-minded.club/eventos/mend-in-public-day-valencia-%c2%b7-zurcido-e-intercambio-de-ropa-en-open/
LOCATION:OPEN-MINDED.club\, Joaquín Costa 41\, Valencia\, Valencia\, 46005\, Spain
CATEGORIES:Valencia
ATTACH;FMTTYPE=image/jpeg:https://www.open-minded.club/wp-content/uploads/2026/04/MEND-DAY.jpg
ORGANIZER;CN="OPEN-MINDED.club":MAILTO:info@open-minded.club
END:VEVENT
END:VCALENDAR