BEGIN:VCALENDAR
VERSION:2.0
PRODID:-//Open-Minded.club — Comunidad Liberal ENM · Red Social ON &amp; OFF con Clubs Físicos - ECPv6.15.20//NONSGML v1.0//EN
CALSCALE:GREGORIAN
METHOD:PUBLISH
X-WR-CALNAME:Open-Minded.club — Comunidad Liberal ENM · Red Social ON &amp; OFF con Clubs Físicos
X-ORIGINAL-URL:https://www.open-minded.club
X-WR-CALDESC:Eventos para Open-Minded.club — Comunidad Liberal ENM · Red Social ON &amp; OFF con Clubs Físicos
REFRESH-INTERVAL;VALUE=DURATION:PT1H
X-Robots-Tag:noindex
X-PUBLISHED-TTL:PT1H
BEGIN:VTIMEZONE
TZID:Europe/Madrid
BEGIN:DAYLIGHT
TZOFFSETFROM:+0100
TZOFFSETTO:+0200
TZNAME:CEST
DTSTART:20240331T010000
END:DAYLIGHT
BEGIN:STANDARD
TZOFFSETFROM:+0200
TZOFFSETTO:+0100
TZNAME:CET
DTSTART:20241027T010000
END:STANDARD
BEGIN:DAYLIGHT
TZOFFSETFROM:+0100
TZOFFSETTO:+0200
TZNAME:CEST
DTSTART:20250330T010000
END:DAYLIGHT
BEGIN:STANDARD
TZOFFSETFROM:+0200
TZOFFSETTO:+0100
TZNAME:CET
DTSTART:20251026T010000
END:STANDARD
BEGIN:DAYLIGHT
TZOFFSETFROM:+0100
TZOFFSETTO:+0200
TZNAME:CEST
DTSTART:20260329T010000
END:DAYLIGHT
BEGIN:STANDARD
TZOFFSETFROM:+0200
TZOFFSETTO:+0100
TZNAME:CET
DTSTART:20261025T010000
END:STANDARD
END:VTIMEZONE
BEGIN:VEVENT
DTSTART;TZID=Europe/Madrid:20250730T190000
DTEND;TZID=Europe/Madrid:20250731T000000
DTSTAMP:20260420T015111
CREATED:20250727T114955Z
LAST-MODIFIED:20250727T180532Z
UID:11884-1753902000-1753920000@www.open-minded.club
SUMMARY:SIN Miércolex 🔥\, cumpleaños de JJ
DESCRIPTION:🔥 SIN Miércolex 🔥 \n \n📅 30 de Julio – Día X de la semana \nEste miércoles\, celebramos el cumpleaños de JJ con una fiesta tan provocadora como su nombre: SIN. \n📌 Entrada GRATIS si has venido en los últimos 60 días. \n🎯 DRESS CODE obligatorio: SIN (interpreta el pecado… o la ausencia\, a tu manera). \nPorque en OPEN\, el pecado no se castiga\, se celebra. \n“Hate the sin\, not the sinner” \n🗝️ No cualquiera es miembro de OPEN. Tú lo eres. \n🍍 PARTIES FOR CIVILIZED PEOPLE. \n💋 Fácil entrar para personas de mente abierta\, imposible para l@s irrespetuos@s. \n📍 Joaquín Costa 41\, Valencia \n📲 WhatsApp: +34 744 75 64 39 \n🔗 open-minded.club
URL:https://www.open-minded.club/eventos/cumpleanos-de-jj/
LOCATION:OPEN-MINDED.club\, Joaquín Costa 41\, Valencia\, Valencia\, 46005\, Spain
CATEGORIES:Fiesta Swinger
ATTACH;FMTTYPE=image/jpeg:https://www.open-minded.club/wp-content/uploads/2025/07/SIN-PARTY-390725-OM-1.jpg
ORGANIZER;CN="OPEN-MINDED.club":MAILTO:info@open-minded.club
END:VEVENT
END:VCALENDAR