BEGIN:VCALENDAR
VERSION:2.0
PRODID:-//Open-Minded.club — Comunidad Liberal ENM · Red Social ON &amp; OFF con Clubs Físicos - ECPv6.15.20//NONSGML v1.0//EN
CALSCALE:GREGORIAN
METHOD:PUBLISH
X-WR-CALNAME:Open-Minded.club — Comunidad Liberal ENM · Red Social ON &amp; OFF con Clubs Físicos
X-ORIGINAL-URL:https://www.open-minded.club
X-WR-CALDESC:Eventos para Open-Minded.club — Comunidad Liberal ENM · Red Social ON &amp; OFF con Clubs Físicos
REFRESH-INTERVAL;VALUE=DURATION:PT1H
X-Robots-Tag:noindex
X-PUBLISHED-TTL:PT1H
BEGIN:VTIMEZONE
TZID:Europe/Madrid
BEGIN:DAYLIGHT
TZOFFSETFROM:+0100
TZOFFSETTO:+0200
TZNAME:CEST
DTSTART:20240331T010000
END:DAYLIGHT
BEGIN:STANDARD
TZOFFSETFROM:+0200
TZOFFSETTO:+0100
TZNAME:CET
DTSTART:20241027T010000
END:STANDARD
BEGIN:DAYLIGHT
TZOFFSETFROM:+0100
TZOFFSETTO:+0200
TZNAME:CEST
DTSTART:20250330T010000
END:DAYLIGHT
BEGIN:STANDARD
TZOFFSETFROM:+0200
TZOFFSETTO:+0100
TZNAME:CET
DTSTART:20251026T010000
END:STANDARD
BEGIN:DAYLIGHT
TZOFFSETFROM:+0100
TZOFFSETTO:+0200
TZNAME:CEST
DTSTART:20260329T010000
END:DAYLIGHT
BEGIN:STANDARD
TZOFFSETFROM:+0200
TZOFFSETTO:+0100
TZNAME:CET
DTSTART:20261025T010000
END:STANDARD
END:VTIMEZONE
BEGIN:VEVENT
DTSTART;TZID=Europe/Madrid:20250409T050000
DTEND;TZID=Europe/Madrid:20250409T140000
DTSTAMP:20260425T010705
CREATED:20250409T110658Z
LAST-MODIFIED:20250409T110658Z
UID:3180-1744174800-1744207200@www.open-minded.club
SUMMARY:MIÉRCOLEX: HOY MÁS X QUE NUNCA. DÍA DE LA ROSA
DESCRIPTION:???? MIÉRCOLEX: HOY MÁS X QUE NUNCA. Y MÁS ROSA TAMBIÉN. ????️???? \nElla mira al horizonte…\nTú decides si quedarte donde estás\, o venir donde todo es posible.\nPorque hoy la X se vuelve rosa\, y no es casualidad. ???? \n9 de abril: Día Internacional del Rosa.\nUna fecha que nació para decir basta al bullying\, la homofobia y la transfobia.\nY cae\, como no podía ser de otra forma… en MIÉRCOLEX. ????\nEl día más OPEN-MINDED de la semana. \nPorque ser OPEN también es eso:\n???? Ser quien eres.\n???? Vestir de rosa\, de cuero o sin nada.\n???? Jugar sin etiquetas.\n???? Saber que no estás sol@. \n✨ HOY ES OPEN-HOUSE: \nSin membresía habitual o VIP\nSin complicaciones.\nSolo tú\, tu actitud\, una membresía SIMPLE\, Alta gratuita y tu entrada de 20 €.\nvengas sol@ o en pareja. \n???? Nos lo dijo una pareja de turistas ayer: \n“No hay nada en Valencia un día de diario… solo OPEN.”\nY tenían razón. \n???? Hoy\, todas las almas OPEN-MINDED de Valencia se encuentran en un solo lugar:\nOPEN-MINDED.club\nDonde el respeto es norma\,\nla sensualidad es bienvenida\,\ny donde\, como siempre… hay juego. \nERES OPEN.\nVen a celebrarlo.\n????????????
URL:https://www.open-minded.club/eventos/miercolex-hoy-mas-x-que-nunca-dia-de-la-rosa/
LOCATION:OPEN-MINDED.club\, Joaquín Costa 41\, Valencia\, Valencia\, 46005\, Spain
CATEGORIES:Fiesta Swinger
ATTACH;FMTTYPE=image/jpeg:https://www.open-minded.club/wp-content/uploads/2025/04/Copy-of-DIA-DE-LA-ROSA-MIERCOLEX-1.jpg
ORGANIZER;CN="OPEN-MINDED.club":MAILTO:info@open-minded.club
END:VEVENT
END:VCALENDAR