BEGIN:VCALENDAR
VERSION:2.0
PRODID:-//Open-Minded.club — Comunidad Liberal ENM · Red Social ON &amp; OFF con Clubs Físicos - ECPv6.15.20//NONSGML v1.0//EN
CALSCALE:GREGORIAN
METHOD:PUBLISH
X-WR-CALNAME:Open-Minded.club — Comunidad Liberal ENM · Red Social ON &amp; OFF con Clubs Físicos
X-ORIGINAL-URL:https://www.open-minded.club
X-WR-CALDESC:Eventos para Open-Minded.club — Comunidad Liberal ENM · Red Social ON &amp; OFF con Clubs Físicos
REFRESH-INTERVAL;VALUE=DURATION:PT1H
X-Robots-Tag:noindex
X-PUBLISHED-TTL:PT1H
BEGIN:VTIMEZONE
TZID:Europe/Madrid
BEGIN:DAYLIGHT
TZOFFSETFROM:+0100
TZOFFSETTO:+0200
TZNAME:CEST
DTSTART:20250330T010000
END:DAYLIGHT
BEGIN:STANDARD
TZOFFSETFROM:+0200
TZOFFSETTO:+0100
TZNAME:CET
DTSTART:20251026T010000
END:STANDARD
BEGIN:DAYLIGHT
TZOFFSETFROM:+0100
TZOFFSETTO:+0200
TZNAME:CEST
DTSTART:20260329T010000
END:DAYLIGHT
BEGIN:STANDARD
TZOFFSETFROM:+0200
TZOFFSETTO:+0100
TZNAME:CET
DTSTART:20261025T010000
END:STANDARD
BEGIN:DAYLIGHT
TZOFFSETFROM:+0100
TZOFFSETTO:+0200
TZNAME:CEST
DTSTART:20270328T010000
END:DAYLIGHT
BEGIN:STANDARD
TZOFFSETFROM:+0200
TZOFFSETTO:+0100
TZNAME:CET
DTSTART:20271031T010000
END:STANDARD
END:VTIMEZONE
BEGIN:VEVENT
DTSTART;TZID=Europe/Madrid:20260313T210000
DTEND;TZID=Europe/Madrid:20260314T030000
DTSTAMP:20260419T182054
CREATED:20260309T085035Z
LAST-MODIFIED:20260309T085035Z
UID:14413-1773435600-1773457200@www.open-minded.club
SUMMARY:Solo Parejas - Friday 13th Extreme Lingerie Party
DESCRIPTION:Viernes 13 de marzo de 2026 · Desde las 22:00 \nEsta noche es solo para parejas. \nOnly Couples Day en Open-Minded.club: acceso exclusivo para parejas verificadas. Sin singles\, sin grupos. Una dinámica diferente\, un ambiente diferente. Todo el espacio pensado para vosotros. \nLa Friday 13th Extreme Lingerie Party con el ADN de siempre: ambiente verificado\, personas reales\, dinámicas consensuadas. \nDress code Extreme Lingerie — opcional. Premio al mejor look Friday 13th.\nLa Ceremonia de las Máscaras — presencia\, no ocultamiento.\nEl Camino de las Sombras — recorrido sensorial por todas las salas.\nJuegos Prohibidos — zonas de juego grupal con consentimiento como condición estructural. \nMás de 3.000 miembros verificados. 846 activos en los últimos 6 meses. Ser miembro de OPEN es un aval social real. \nOPEN abre todos los días del año desde las 22:00.\nAcceso exclusivo para miembros. Alta en la web antes de venir. \nInformación completa y reservas: \nDía solo Parejas: Friday 13th Lingerie Party · Club Liberal Valencia | OPEN \n \nWhatsApp: +34 744 75 64 39\nJoaquín Costa 41 · Valencia \nOPEN■MINDED.club · Parties for Civilized People ■
URL:https://www.open-minded.club/eventos/solo-parejas-friday-13th-extreme-lingerie-party/
LOCATION:OPEN-MINDED.club\, Joaquín Costa 41\, Valencia\, Valencia\, 46005\, Spain
CATEGORIES:Fiesta Swinger,Valencia
ATTACH;FMTTYPE=image/jpeg:https://www.open-minded.club/wp-content/uploads/2026/03/viernes-13-grace-solo-parejas.jpg
ORGANIZER;CN="OPEN-MINDED.club":MAILTO:info@open-minded.club
END:VEVENT
END:VCALENDAR