BEGIN:VCALENDAR
VERSION:2.0
PRODID:-//Open-Minded.club — Comunidad Liberal ENM · Red Social ON &amp; OFF con Clubs Físicos - ECPv6.15.20//NONSGML v1.0//EN
CALSCALE:GREGORIAN
METHOD:PUBLISH
X-ORIGINAL-URL:https://www.open-minded.club
X-WR-CALDESC:Eventos para Open-Minded.club — Comunidad Liberal ENM · Red Social ON &amp; OFF con Clubs Físicos
REFRESH-INTERVAL;VALUE=DURATION:PT1H
X-Robots-Tag:noindex
X-PUBLISHED-TTL:PT1H
BEGIN:VTIMEZONE
TZID:Europe/Madrid
BEGIN:DAYLIGHT
TZOFFSETFROM:+0100
TZOFFSETTO:+0200
TZNAME:CEST
DTSTART:20250330T010000
END:DAYLIGHT
BEGIN:STANDARD
TZOFFSETFROM:+0200
TZOFFSETTO:+0100
TZNAME:CET
DTSTART:20251026T010000
END:STANDARD
BEGIN:DAYLIGHT
TZOFFSETFROM:+0100
TZOFFSETTO:+0200
TZNAME:CEST
DTSTART:20260329T010000
END:DAYLIGHT
BEGIN:STANDARD
TZOFFSETFROM:+0200
TZOFFSETTO:+0100
TZNAME:CET
DTSTART:20261025T010000
END:STANDARD
BEGIN:DAYLIGHT
TZOFFSETFROM:+0100
TZOFFSETTO:+0200
TZNAME:CEST
DTSTART:20270328T010000
END:DAYLIGHT
BEGIN:STANDARD
TZOFFSETFROM:+0200
TZOFFSETTO:+0100
TZNAME:CET
DTSTART:20271031T010000
END:STANDARD
END:VTIMEZONE
BEGIN:VEVENT
DTSTART;TZID=Europe/Madrid:20260410T200000
DTEND;TZID=Europe/Madrid:20260411T020000
DTSTAMP:20260424T030713
CREATED:20260410T010114Z
LAST-MODIFIED:20260410T010114Z
UID:15542-1775851200-1775872800@www.open-minded.club
SUMMARY:Fiesta TRANSPARENTE
DESCRIPTION:TRANSPARENTE · Viernes en OPEN-MINDED Club Valencia\nEste viernes la dinámica d ela fiesta se llama Transparente — y funciona en dos capas. \nLa primera es estética: el dress code invita a las transparencias. Prendas que insinúan\, que sugieren\, que comunican presencia sin proclamar nada. No es obligatorio\, es una propuesta. Puedes interpretarla o no. \nLa segunda es de actitud: en OPEN-MINDED valoramos a la gente transparente en el sentido más literal. Personas que saben lo que quieren\, que lo dicen con claridad\, que no tienen agenda oculta. Esa coherencia entre lo que se piensa y lo que se hace es la base de cualquier encuentro real en un espacio como este. \nLa persona que te recibe cuando llegas es Grace San Martín\, co-fundadora y presidenta de la asociación. La misma de las fotos. La que gestiona el club para que todo sea fluido\, seguro y real. Sin presión\, sin situaciones incómodas — hay verificación de identidad y normas claras con consecuencias reales para quien las incumple. \nSin babosos. Sin presión. Vistes como quieres y te desnudas si quieres — nadie te obliga a nada en ninguna zona. Lo haces porque tú decides\, cuando tú decides. \nOPEN-MINDED es una asociación privada en Valencia. Más de 3.760 miembros verificados\, 846 activos en los últimos seis meses. Para venir necesitas membresía.\nToda la info:\n🔗 https://www.open-minded.club/fiesta-en-valencia-transparente/\nParties for civilized people 🍍
URL:https://www.open-minded.club/eventos/fiesta_transparente/
LOCATION:OPEN-MINDED.club\, Joaquín Costa 41\, Valencia\, Valencia\, 46005\, Spain
ATTACH;FMTTYPE=image/jpeg:https://www.open-minded.club/wp-content/uploads/2026/04/TRANSPARENTE.jpg
ORGANIZER;CN="OPEN-MINDED.club":MAILTO:info@open-minded.club
END:VEVENT
BEGIN:VEVENT
DTSTART;TZID=Europe/Madrid:20260411T200000
DTEND;TZID=Europe/Madrid:20260412T020000
DTSTAMP:20260424T030713
CREATED:20260409T221611Z
LAST-MODIFIED:20260409T221611Z
UID:15512-1775937600-1775959200@www.open-minded.club
SUMMARY:"DAISY DUKES" — Wild West Party
DESCRIPTION:OPEN-MINDED Valencia · Sábado 11 Abril\n“DAISY DUKES” — Wild West Party\n¿Recuerdas la primera vez que escuchaste hablar de Daisy Dukes?\nEste sábado lo vives.\nShorts cortos. Camisas anudadas. Libertad sin filtros.\nY sí — si vienes con el dress code\, hay premio. \nDAISY DUKES llega al club con toda la energía que conoces: dress code vaquero\, ambiente libre\, consentimiento explícito\, gente real con identidad verificada.\nOne of Valencia’s most iconic theme parties is back.\nDAISY DUKES brings the spirit of freedom\, bold style and real connections to our private club in the heart of Valencia. \n✦ Dress code SIEMPRE OPCIONAL: shorts cortos\, camisas anudadas\, botas\, actitud\n✦ Premio especial si vienes con el look\n✦ Rituals: BiX · Strip Jam · Juego de las Llaves (voluntario)\n✦ Música · Ambiente · Conexiones reales\n📍 Joaquín Costa 41\, Valencia \n🔑 Club privado — verificación de identidad en puerta\n💬 Tarifas y horarios → open-minded.club/precios/\n📲 WhatsApp +34 744 75 64 39\nOPEN-MINDED · Parties for Civilized People 🍍 \nDaisy Dukes Party\, Sábado Fiesta Swinger en Valencia\, Swinger´s Party \n \nBTW: la de la foto es Grace\, nuestra presidenta. Tan real como tú — humana\, no IA. La misma que verás cuando llegues\, asegurándose de que todo esté perfecto para que tú juegues.
URL:https://www.open-minded.club/eventos/daisy-dukes-wild-west-party/
LOCATION:OPEN-MINDED.club\, Joaquín Costa 41\, Valencia\, Valencia\, 46005\, Spain
CATEGORIES:Fiesta Swinger,Valencia
ATTACH;FMTTYPE=image/jpeg:https://www.open-minded.club/wp-content/uploads/2026/04/DAISY-DUKES.jpg
ORGANIZER;CN="OPEN-MINDED.club":MAILTO:info@open-minded.club
END:VEVENT
END:VCALENDAR