BEGIN:VCALENDAR
VERSION:2.0
PRODID:-//Open-Minded.club — Comunidad Liberal ENM · Red Social ON &amp; OFF con Clubs Físicos - ECPv6.15.20//NONSGML v1.0//EN
CALSCALE:GREGORIAN
METHOD:PUBLISH
X-ORIGINAL-URL:https://www.open-minded.club
X-WR-CALDESC:Eventos para Open-Minded.club — Comunidad Liberal ENM · Red Social ON &amp; OFF con Clubs Físicos
REFRESH-INTERVAL;VALUE=DURATION:PT1H
X-Robots-Tag:noindex
X-PUBLISHED-TTL:PT1H
BEGIN:VTIMEZONE
TZID:Europe/Madrid
BEGIN:DAYLIGHT
TZOFFSETFROM:+0100
TZOFFSETTO:+0200
TZNAME:CEST
DTSTART:20250330T010000
END:DAYLIGHT
BEGIN:STANDARD
TZOFFSETFROM:+0200
TZOFFSETTO:+0100
TZNAME:CET
DTSTART:20251026T010000
END:STANDARD
BEGIN:DAYLIGHT
TZOFFSETFROM:+0100
TZOFFSETTO:+0200
TZNAME:CEST
DTSTART:20260329T010000
END:DAYLIGHT
BEGIN:STANDARD
TZOFFSETFROM:+0200
TZOFFSETTO:+0100
TZNAME:CET
DTSTART:20261025T010000
END:STANDARD
BEGIN:DAYLIGHT
TZOFFSETFROM:+0100
TZOFFSETTO:+0200
TZNAME:CEST
DTSTART:20270328T010000
END:DAYLIGHT
BEGIN:STANDARD
TZOFFSETFROM:+0200
TZOFFSETTO:+0100
TZNAME:CET
DTSTART:20271031T010000
END:STANDARD
END:VTIMEZONE
BEGIN:VEVENT
DTSTART;TZID=Europe/Madrid:20260329T200000
DTEND;TZID=Europe/Madrid:20260330T010000
DTSTAMP:20260424T030743
CREATED:20260329T131859Z
LAST-MODIFIED:20260329T131859Z
UID:15263-1774814400-1774832400@www.open-minded.club
SUMMARY:DOMINGO DE RAMOS
DESCRIPTION:// 29 MARZO · DOMINGO DE RAMOS \nSemana Santa Swinger en Valencia. \nPor el día\, procesiones. Paella. Sol. Lo de siempre. \nPor la noche\, tienes una cita. \n━━━━━━━━━━━━━━━━━━ \n🌴 SEMANA SANTA SWINGER\nOPEN-MINDED · Todos los días · 22:00h\nJoaquín Costa 41 · Valencia \n━━━━━━━━━━━━━━━━━━ \nEsta semana\, las PAREJAS que soliciten el ALTA la tienen gratis. \n━━━━━━━━━━━━━━━━━━ \nSi te vas de Valencia sin pasar por OPEN\,\nno has estado en Valencia. \n🔗 open-minded.club\n📲 WhatsApp +34 744 75 64 39
URL:https://www.open-minded.club/eventos/domingo-de-ramos/
LOCATION:OPEN-MINDED.club\, Joaquín Costa 41\, Valencia\, Valencia\, 46005\, Spain
ATTACH;FMTTYPE=image/jpeg:https://www.open-minded.club/wp-content/uploads/2026/03/domigo-de-ramos.jpg
ORGANIZER;CN="OPEN-MINDED.club":MAILTO:info@open-minded.club
END:VEVENT
BEGIN:VEVENT
DTSTART;TZID=Europe/Madrid:20260330T200000
DTEND;TZID=Europe/Madrid:20260331T010000
DTSTAMP:20260424T030743
CREATED:20260330T094828Z
LAST-MODIFIED:20260330T094828Z
UID:15271-1774900800-1774918800@www.open-minded.club
SUMMARY:🗝️ DÍA DEL GRUPO TELEGRAM
DESCRIPTION:🗝️ DÍA DEL GRUPO TELEGRAM\nÚltimo lunes de cada mes · Desde las 22:00 \nSi estás en nuestro grupo de Telegram\, este lunes es tuyo. \nEsta noche: Lunes Low Cost\nacceso 30€ sol@ o en pareja · Incluye 1 consumición por persona. \nVerificación de identidad y firma de normas obligatoria al entrar. \n📍 Joaquín Costa 41 · Valencia\n🔗 Únete al grupo → t.me/+8ofFDv0lUqxhZmM0 \nFácil entrar para las personas de mente abierta. Imposible para l@s irrespetuos@s. 🍍
URL:https://www.open-minded.club/eventos/dia-del-grupo-telegram/
LOCATION:OPEN-MINDED.club\, Joaquín Costa 41\, Valencia\, Valencia\, 46005\, Spain
CATEGORIES:Fiesta Swinger,Valencia
ATTACH;FMTTYPE=image/jpeg:https://www.open-minded.club/wp-content/uploads/2025/09/lunes-telegram.jpg
ORGANIZER;CN="OPEN-MINDED.club":MAILTO:info@open-minded.club
END:VEVENT
END:VCALENDAR