BEGIN:VCALENDAR
VERSION:2.0
PRODID:-//Open-Minded.club — Comunidad Liberal ENM · Red Social ON &amp; OFF con Clubs Físicos - ECPv6.15.20//NONSGML v1.0//EN
CALSCALE:GREGORIAN
METHOD:PUBLISH
X-WR-CALNAME:Open-Minded.club — Comunidad Liberal ENM · Red Social ON &amp; OFF con Clubs Físicos
X-ORIGINAL-URL:https://www.open-minded.club
X-WR-CALDESC:Eventos para Open-Minded.club — Comunidad Liberal ENM · Red Social ON &amp; OFF con Clubs Físicos
REFRESH-INTERVAL;VALUE=DURATION:PT1H
X-Robots-Tag:noindex
X-PUBLISHED-TTL:PT1H
BEGIN:VTIMEZONE
TZID:Europe/Madrid
BEGIN:DAYLIGHT
TZOFFSETFROM:+0100
TZOFFSETTO:+0200
TZNAME:CEST
DTSTART:20250330T010000
END:DAYLIGHT
BEGIN:STANDARD
TZOFFSETFROM:+0200
TZOFFSETTO:+0100
TZNAME:CET
DTSTART:20251026T010000
END:STANDARD
BEGIN:DAYLIGHT
TZOFFSETFROM:+0100
TZOFFSETTO:+0200
TZNAME:CEST
DTSTART:20260329T010000
END:DAYLIGHT
BEGIN:STANDARD
TZOFFSETFROM:+0200
TZOFFSETTO:+0100
TZNAME:CET
DTSTART:20261025T010000
END:STANDARD
BEGIN:DAYLIGHT
TZOFFSETFROM:+0100
TZOFFSETTO:+0200
TZNAME:CEST
DTSTART:20270328T010000
END:DAYLIGHT
BEGIN:STANDARD
TZOFFSETFROM:+0200
TZOFFSETTO:+0100
TZNAME:CET
DTSTART:20271031T010000
END:STANDARD
END:VTIMEZONE
BEGIN:VEVENT
DTSTART;TZID=Europe/Madrid:20260319T210000
DTEND;TZID=Europe/Madrid:20260320T030000
DTSTAMP:20260424T040624
CREATED:20260317T165900Z
LAST-MODIFIED:20260317T165900Z
UID:14516-1773954000-1773975600@www.open-minded.club
SUMMARY:Jueves\, 19 de Marzo
DESCRIPTION:Esta noche Valencia arde.\nNosotros también. \nTu no FALLAS \, open Tampoco \nARDIENTE · Jueves 19 de marzo\nJoaquín Costa 41 · Valencia \nLa noche más caliente del año tiene un solo sitio donde acabar. \nOPEN está OPEN. Esta noche también. \n👉 WhatsApp +34 744 75 64 39\nwww.open-minded.club
URL:https://www.open-minded.club/eventos/jueves-19-de-marzo/
LOCATION:OPEN-MINDED.club\, Joaquín Costa 41\, Valencia\, Valencia\, 46005\, Spain
ATTACH;FMTTYPE=image/jpeg:https://www.open-minded.club/wp-content/uploads/2026/03/FALLAS-ARDIENTE.jpg
ORGANIZER;CN="OPEN-MINDED.club":MAILTO:info@open-minded.club
END:VEVENT
BEGIN:VEVENT
DTSTART;TZID=Europe/Madrid:20260320T210000
DTEND;TZID=Europe/Madrid:20260321T030000
DTSTAMP:20260424T040624
CREATED:20260317T173632Z
LAST-MODIFIED:20260317T173632Z
UID:14519-1774040400-1774062000@www.open-minded.club
SUMMARY:¡Por fin!
DESCRIPTION:Hay semanas que vives de un modo raro. Y días que vives con el OPEN mode ON. \nEl ritmo cambia\, los planes se reorganizan\, la ciudad late diferente y tú simplemente flotas con ella.\nY luego llega ese momento concreto en que algo se asienta\, recuperas tu espacio interior\, y vuelves a tener ganas de ELEGIR cómo pasar la noche. \nEso que solo se nota cuando vuelve.\nNadie es el villano. No hay “calles tomadas” ni “ruido” que señale a alguien.\nTu ritmo\, tu pausa\, tu regreso. \nGrace está en la foto exactamente así: de espaldas a todo lo que pasó\, mirando hacia donde quiere ir.\nSin explicaciones. Sin posado. Real.\nSin ruido exterior. Sin multitudes.\nSolo l@s nuestros\, el espacio de siempre y el juego habitual. \n¡Por fin!\nOPEN-MINDED\nJoaquín Costa 41 · Valencia\nWhatsApp +34 744 75 64 39
URL:https://www.open-minded.club/eventos/por-fin/
LOCATION:OPEN-MINDED.club\, Joaquín Costa 41\, Valencia\, Valencia\, 46005\, Spain
ATTACH;FMTTYPE=image/jpeg:https://www.open-minded.club/wp-content/uploads/2026/03/por-fin.jpg
ORGANIZER;CN="OPEN-MINDED.club":MAILTO:info@open-minded.club
END:VEVENT
END:VCALENDAR