BEGIN:VCALENDAR
VERSION:2.0
PRODID:-//Open-Minded.club — Comunidad Liberal ENM · Red Social ON &amp; OFF con Clubs Físicos - ECPv6.15.20//NONSGML v1.0//EN
CALSCALE:GREGORIAN
METHOD:PUBLISH
X-WR-CALNAME:Open-Minded.club — Comunidad Liberal ENM · Red Social ON &amp; OFF con Clubs Físicos
X-ORIGINAL-URL:https://www.open-minded.club
X-WR-CALDESC:Eventos para Open-Minded.club — Comunidad Liberal ENM · Red Social ON &amp; OFF con Clubs Físicos
REFRESH-INTERVAL;VALUE=DURATION:PT1H
X-Robots-Tag:noindex
X-PUBLISHED-TTL:PT1H
BEGIN:VTIMEZONE
TZID:Europe/Madrid
BEGIN:DAYLIGHT
TZOFFSETFROM:+0100
TZOFFSETTO:+0200
TZNAME:CEST
DTSTART:20240331T010000
END:DAYLIGHT
BEGIN:STANDARD
TZOFFSETFROM:+0200
TZOFFSETTO:+0100
TZNAME:CET
DTSTART:20241027T010000
END:STANDARD
BEGIN:DAYLIGHT
TZOFFSETFROM:+0100
TZOFFSETTO:+0200
TZNAME:CEST
DTSTART:20250330T010000
END:DAYLIGHT
BEGIN:STANDARD
TZOFFSETFROM:+0200
TZOFFSETTO:+0100
TZNAME:CET
DTSTART:20251026T010000
END:STANDARD
BEGIN:DAYLIGHT
TZOFFSETFROM:+0100
TZOFFSETTO:+0200
TZNAME:CEST
DTSTART:20260329T010000
END:DAYLIGHT
BEGIN:STANDARD
TZOFFSETFROM:+0200
TZOFFSETTO:+0100
TZNAME:CET
DTSTART:20261025T010000
END:STANDARD
END:VTIMEZONE
BEGIN:VEVENT
DTSTART;TZID=Europe/Madrid:20250410T190000
DTEND;TZID=Europe/Madrid:20250411T000000
DTSTAMP:20260424T173013
CREATED:20250410T071615Z
LAST-MODIFIED:20250410T071615Z
UID:3192-1744311600-1744329600@www.open-minded.club
SUMMARY:Jueves Oscuro: SECRET
DESCRIPTION:???? Jueves Oscuro: SECRET en Open-Minded.club ????️\n10 de abril | Desde las 22:00 | Joaquín Costa 41 – Valencia \nEsta noche\, Valencia esconde un secreto.\nUn lugar donde la seguridad y el respeto existen\, pero la privacidad y el secreto lo son todo.\nDonde las luces bajan\, las miradas hablan\, y cada rincón respira misterio.\nEste Jueves Oscuro lo dedicamos a los secretos… SECRET.\nPorque lo que pasa en OPEN\, se queda en OPEN.\nNo hay shows de mentira. Solo personas reales…\n…y civilizadas\, como tú. \n???? Quien esta noche sale en Valencia\, con respeto y con mente abierta…\nya sabe que el único sitio es Open-Minded.club. \n???? No preguntes. No expliques. Solo ven y sé parte.\nNo se anuncia lo que ocurre dentro de nuestro espacio PRIVADO.\nSe intuye. No se grita. Se susurra. \n???? Todo parece oscuro… hasta que te adentras.\nGuarda el secreto. Que siga oscuro para quienes aún no han cruzado la puerta. \n????️ For our TOURISTS in Valencia tonight:\nThere’s no better plan on a Thursday night.\nThe city gets quiet…\nExcept OPEN.\nCome to Open-Minded.club and discover the only place in Valencia where the night doesn’t end with just a drink.\nWe’re located in a safe and central area\, with easy access to taxis and a secure space where you can relax\, explore and enjoy.\nA secret experience for respectful\, open-minded people only.\nTonight is SECRET. Are you in? \nBTW: Everything in our club is real — no fake images here. The woman in the photo? That’s our boss\, Grace. ????
URL:https://www.open-minded.club/eventos/jueves-oscuro-secret/
LOCATION:OPEN-MINDED.club\, Joaquín Costa 41\, Valencia\, Valencia\, 46005\, Spain
ATTACH;FMTTYPE=image/jpeg:https://www.open-minded.club/wp-content/uploads/2025/04/JUEVES-1.jpg
ORGANIZER;CN="OPEN-MINDED.club":MAILTO:info@open-minded.club
END:VEVENT
BEGIN:VEVENT
DTSTART;TZID=Europe/Madrid:20250411T190000
DTEND;TZID=Europe/Madrid:20250412T000000
DTSTAMP:20260424T173013
CREATED:20250411T073427Z
LAST-MODIFIED:20250411T073427Z
UID:3216-1744398000-1744416000@www.open-minded.club
SUMMARY:Viernes 11\,  QUILLS
DESCRIPTION:????Viernes 11 de abril – OPEN-MINDED.club ????️ QUILLS: El arte de provocar desde la tinta y la piel\n???? Viernes de Dolores | Viernes de Película | Mucho más que una simple Lingerie Party \nAlgunos escribían con tinta… otr@s con piel.\nY hay dolores que no castigan: despiertan. \n“La pluma puede herir tanto como el látigo.”\n— Marqués de Sade \nEste Viernes de Dolores\, rendimos homenaje a la sensualidad que incomoda\, al placer que desafía y a l@s que no necesitan permiso para sentir. \n???? Inspirad@s en la película Quills y la figura del Marqués de Sade\, convertimos la noche en una oda al deseo sin censura\, con guiños cinematográficos y una atmósfera de erotismo culto y sin filtros. \n???? PERFORMANCE EN VIVO \nPor @kurokink: @licant_ropes & @allieryz\nCeremonia con pluma\, cuerdas y carne.\nUn acto donde el cuerpo se convierte en papel y cada trazo en una confesión.\nNo apto para miradas tibias. \nBTW: La de la foto es Allie. Auténtica y real\, como nuestra TRIBU. ????️???? \n???? El dress code nunca es obligatorio\, pero hay noches que piden encaje\, cuero\, antifaz o simplemente… actitud. \nVen como quieras. Pero ven dispuest@. \n???? Porque en OPEN no se trata de cuánt@s hay\, sino de quiénes están. \nY este viernes\, están l@s que entienden que el arte también puede doler.\n????️ No cualquiera es miembro de OPEN. Tú lo eres.\n???? PARTIES FOR CIVILIZED PEOPLE\n???? Fácil entrar para l@s de mente abierta\, imposible para l@s irrespetuos@s. \n???? Joaquín Costa 41\, Valencia\n???? Reserva en open-minded.club\n¡Gracias por ser OPEN ????️!
URL:https://www.open-minded.club/eventos/viernes-11-quills/
LOCATION:OPEN-MINDED.club\, Joaquín Costa 41\, Valencia\, Valencia\, 46005\, Spain
CATEGORIES:Fiesta Swinger
ORGANIZER;CN="OPEN-MINDED.club":MAILTO:info@open-minded.club
END:VEVENT
END:VCALENDAR