BEGIN:VCALENDAR
VERSION:2.0
PRODID:-//Open-Minded.club — Comunidad Liberal ENM · Red Social ON &amp; OFF con Clubs Físicos - ECPv6.15.20//NONSGML v1.0//EN
CALSCALE:GREGORIAN
METHOD:PUBLISH
X-WR-CALNAME:Open-Minded.club — Comunidad Liberal ENM · Red Social ON &amp; OFF con Clubs Físicos
X-ORIGINAL-URL:https://www.open-minded.club
X-WR-CALDESC:Eventos para Open-Minded.club — Comunidad Liberal ENM · Red Social ON &amp; OFF con Clubs Físicos
REFRESH-INTERVAL;VALUE=DURATION:PT1H
X-Robots-Tag:noindex
X-PUBLISHED-TTL:PT1H
BEGIN:VTIMEZONE
TZID:Europe/Madrid
BEGIN:DAYLIGHT
TZOFFSETFROM:+0100
TZOFFSETTO:+0200
TZNAME:CEST
DTSTART:20240331T010000
END:DAYLIGHT
BEGIN:STANDARD
TZOFFSETFROM:+0200
TZOFFSETTO:+0100
TZNAME:CET
DTSTART:20241027T010000
END:STANDARD
BEGIN:DAYLIGHT
TZOFFSETFROM:+0100
TZOFFSETTO:+0200
TZNAME:CEST
DTSTART:20250330T010000
END:DAYLIGHT
BEGIN:STANDARD
TZOFFSETFROM:+0200
TZOFFSETTO:+0100
TZNAME:CET
DTSTART:20251026T010000
END:STANDARD
BEGIN:DAYLIGHT
TZOFFSETFROM:+0100
TZOFFSETTO:+0200
TZNAME:CEST
DTSTART:20260329T010000
END:DAYLIGHT
BEGIN:STANDARD
TZOFFSETFROM:+0200
TZOFFSETTO:+0100
TZNAME:CET
DTSTART:20261025T010000
END:STANDARD
END:VTIMEZONE
BEGIN:VEVENT
DTSTART;TZID=Europe/Madrid:20250406T190000
DTEND;TZID=Europe/Madrid:20250407T120000
DTSTAMP:20260424T173606
CREATED:20250406T100442Z
LAST-MODIFIED:20250406T100442Z
UID:2936-1743966000-1744027200@www.open-minded.club
SUMMARY:HOY DOMINGO: CLASSIC EXTRAVAGANZA
DESCRIPTION:???? HOY DOMINGO: CLASSIC EXTRAVAGANZA ????????\nEspecial REMEMBER 80s & 90s en Valencia ???????? \nVuelve lo mejor de una época inolvidable:\n???? Hombreras\, cuero\, vinilos y colores neón\n???? Cassette\, VHS\, discman y los primeros videojuegos\n???? Remember en Valencia\, Madonna a Nirvana en el mundo\, pasando por Mecano\, The Cure\, Technotronic y OBK\n???? La cultura pop\, el glam\, el grunge\, la ruta y los primeros raves\n???? Cuando veíamos MTV y esperábamos a las 00:00 en Canal+ \n???? Desde las 22:00\n???? Cócteles\, buen rollo y encuentros reales\n???? Como siempre\, en OPEN-MINDED hay juego\, hay Tribu y no hay filtros \n✨ DOMINGO ES DÍA OPEN HOUSE:\nNo necesitas membresía VIP ni pagar alta\nSolo regístrate gratis y hacerte MIEMBRO SIMPLE por 10€ al mes\n????️ 20 € por persona\, sol@ o acompañad@ \n???? Valencia\, Joaquín Costa 41\n????️ No cualquiera es miembro de OPEN. Tú si eres civilizad@ lo eres \n#EstoEsOPEN #ClassicExtravaganza #Remember80s90s #OpenHouse #SwingersValencia #TribuOPEN #PartiesForCivilizedPeople ????????️
URL:https://www.open-minded.club/eventos/%f0%9f%8e%89-hoy-domingo-classic-extravaganza-%f0%9f%95%ba%f0%9f%92%83-especial-remember-80s-90s-en-valencia-%f0%9f%8c%88%f0%9f%8e%b6-vuelve-lo-mejor-de-una-epoca-inolvidable-%f0%9f%a7%a5-hombrer/
LOCATION:OPEN-MINDED.club\, Joaquín Costa 41\, Valencia\, Valencia\, 46005\, Spain
ATTACH;FMTTYPE=image/jpeg:https://www.open-minded.club/wp-content/uploads/2025/04/domingo-classic-80-1-2.jpg
ORGANIZER;CN="OPEN-MINDED.club":MAILTO:info@open-minded.club
END:VEVENT
END:VCALENDAR