BEGIN:VCALENDAR
VERSION:2.0
PRODID:-//Open-Minded.club — Comunidad Liberal ENM · Red Social ON &amp; OFF con Clubs Físicos - ECPv6.15.20//NONSGML v1.0//EN
CALSCALE:GREGORIAN
METHOD:PUBLISH
X-WR-CALNAME:Open-Minded.club — Comunidad Liberal ENM · Red Social ON &amp; OFF con Clubs Físicos
X-ORIGINAL-URL:https://www.open-minded.club
X-WR-CALDESC:Eventos para Open-Minded.club — Comunidad Liberal ENM · Red Social ON &amp; OFF con Clubs Físicos
REFRESH-INTERVAL;VALUE=DURATION:PT1H
X-Robots-Tag:noindex
X-PUBLISHED-TTL:PT1H
BEGIN:VTIMEZONE
TZID:Europe/Madrid
BEGIN:DAYLIGHT
TZOFFSETFROM:+0100
TZOFFSETTO:+0200
TZNAME:CEST
DTSTART:20240331T010000
END:DAYLIGHT
BEGIN:STANDARD
TZOFFSETFROM:+0200
TZOFFSETTO:+0100
TZNAME:CET
DTSTART:20241027T010000
END:STANDARD
BEGIN:DAYLIGHT
TZOFFSETFROM:+0100
TZOFFSETTO:+0200
TZNAME:CEST
DTSTART:20250330T010000
END:DAYLIGHT
BEGIN:STANDARD
TZOFFSETFROM:+0200
TZOFFSETTO:+0100
TZNAME:CET
DTSTART:20251026T010000
END:STANDARD
BEGIN:DAYLIGHT
TZOFFSETFROM:+0100
TZOFFSETTO:+0200
TZNAME:CEST
DTSTART:20260329T010000
END:DAYLIGHT
BEGIN:STANDARD
TZOFFSETFROM:+0200
TZOFFSETTO:+0100
TZNAME:CET
DTSTART:20261025T010000
END:STANDARD
END:VTIMEZONE
BEGIN:VEVENT
DTSTART;TZID=Europe/Madrid:20250404T220000
DTEND;TZID=Europe/Madrid:20250405T033000
DTSTAMP:20260424T172927
CREATED:20250403T201507Z
LAST-MODIFIED:20250403T201507Z
UID:2473-1743804000-1743823800@www.open-minded.club
SUMMARY:Viernes BAD KITTY PARTY NUDOS DE SEDUCCIÓN
DESCRIPTION:???? BAD KITTY PARTY\nEste viernes 4… EN OPEN\n???? NUDOS DE SEDUCCIÓN by @licant_ropes & @allieryz. \nLatex\, sumisión\, poder y deseo contenido.\n¿Eres Bad Kitty? \n????️ Solo en OPEN-MINDED.club\n???? PARTIES FOR CIVILIZED PEOPLE \n#EstoEsOPEN #BadKittyParty #ShibariErotic #BDSMnight #TribuOPEN #KinkyFridays #ValenciaSwinger #NotLikeUs #OpenMindedLife
URL:https://www.open-minded.club/eventos/viernes-bad-kitty-party-nudos-de-seduccion/
LOCATION:OPEN-MINDED.club\, Joaquín Costa 41\, Valencia\, Valencia\, 46005\, Spain
CATEGORIES:Fiesta Swinger
ATTACH;FMTTYPE=image/jpeg:https://www.open-minded.club/wp-content/uploads/2025/04/bad-kitty-2.jpg
ORGANIZER;CN="OPEN-MINDED.club":MAILTO:info@open-minded.club
END:VEVENT
BEGIN:VEVENT
DTSTART;TZID=Europe/Madrid:20250405T050000
DTEND;TZID=Europe/Madrid:20250405T140000
DTSTAMP:20260424T172927
CREATED:20250405T084934Z
LAST-MODIFIED:20250405T084934Z
UID:2779-1743829200-1743861600@www.open-minded.club
SUMMARY:Sábado 5 SUGAR & SIN
DESCRIPTION:Sábado 5 SUGAR & SIN \nDulces Perversiones\, sólo en OPEN. \nEste sábado 5 de abril\, Valencia se derrite… y no por el calor.\nEn OPEN-MINDED.club\, preparamos una noche para l@s más golos@s\, más jugueton@s y más desvergonzadamente dulces de la TRIBU OPEN.\nUna fiesta empapada de sirope\, besos con sabor a fresa\, labios dulces que provocan sin hablar y lenguas exploradoras. Aquí\, todo tiene un toque de azúcar\, incluso los pecados. \nCEREMONIAS AZUCARADAS\nRituales sensoriales\, azúcar en cuerpos de carne viva\, miel donde nunca pensaste\, y una zona especial para confesar tus fantasías más dulces (y cumplirlas). \nNuestras Sacerdotissas te invitan a rendirte al juego más provocador:\nEl sabor se lleva en la piel. La actitud\, en la mirada.\nY esos labios dulces… cuidado\, pueden ser adictivos. \n¡AZÚCAR!\nCuando suene el grito en la pista… sabrás que es momento de bailar\nSi no te mueves\, acabarás … Literalmente. \nBUSCAMOS A L@S CARAMELIT@S DE LA NOCHE \nNo es un título. Es una provocación.\nL@s más dulces\, más sensuales\, más divertid@s o simplemente… l@s que más brillen con actitud OPEN\, serán coronad@s como CARAMELIT@S DE LA NOCHE.\nY por supuesto\, premiad@s como se merecen (sí\, con regalos que no se compran en ninguna tienda). \n¿Te crees dulce?\nDemúestralo.\n¿Prefieres ser un caramelito travieso?\nMejor aún. \nDRESSCODE (opcional\, pero delicioso):\nCorsets\, lencería rosa\, medias\, lacitos\, estética candy\, looks kawaii perversos\, bastones de caramelo\, labios pintados para pecar\, fustas decoradas o simplemente… tu actitud más provocadora. En OPEN\, el envoltorio es parte del juego. \nOPEN-MINDED.club\n????️ No cualquiera es miembro de OPEN. Tú lo eres.\n???? PARTIES FOR CIVILIZED PEOPLE\n???? Fácil entrar para personas de mente abierta\, imposible para l@s irrespetuos@s.
URL:https://www.open-minded.club/eventos/sabado-5-sugar-sin/
LOCATION:OPEN-MINDED.club\, Joaquín Costa 41\, Valencia\, Valencia\, 46005\, Spain
CATEGORIES:Fiesta Swinger
ATTACH;FMTTYPE=image/jpeg:https://www.open-minded.club/wp-content/uploads/2025/04/caramelit@s-2.jpg
ORGANIZER;CN="OPEN-MINDED.club":MAILTO:info@open-minded.club
END:VEVENT
END:VCALENDAR